BEGIN:VCALENDAR
VERSION:2.0
PRODID:-//Squarespace Inc/Squarespace 6//v6//EN
BEGIN:VEVENT
UID:59b23e3f7131a58a8faac3d1@squarespace.com
DTSTAMP:20170911T020130Z
DTSTART:20170913T003000Z
DTEND:20170913T033000Z
SUMMARY:TDBQ @ Lazybones Lounge
GEO:-33.910791;151.156382
LOCATION:Lazybones Lounge\, 294 Marrickville Road\, Marrickville\, NSW\, 22
 04\, Australia
END:VEVENT
END:VCALENDAR
