BEGIN:VCALENDAR
VERSION:2.0
PRODID:-//Squarespace Inc/Squarespace 6//v6//EN
BEGIN:VEVENT
UID:6021c8e7d010c3065f8293fa@squarespace.com
DTSTAMP:20210208T233323Z
DTSTART:20210226T230000Z
DTEND:20210227T040000Z
SUMMARY:Voice Training @ TDB Music 
END:VEVENT
END:VCALENDAR
