BEGIN:VCALENDAR
VERSION:2.0
PRODID:-//Squarespace Inc/Squarespace 6//v6//EN
BEGIN:VEVENT
UID:6021ca4305f43e10b0f4b0a6@squarespace.com
DTSTAMP:20210208T233402Z
DTSTART:20210326T230000Z
DTEND:20210327T040000Z
SUMMARY:Voice Training @ TDB Music  
END:VEVENT
END:VCALENDAR
