BEGIN:VCALENDAR
VERSION:2.0
PRODID:-//Squarespace Inc/Squarespace 6//v6//EN
BEGIN:VEVENT
UID:6021c7a5d33b484d97d48bf2@squarespace.com
DTSTAMP:20210208T232953Z
DTSTART:20210212T230000Z
DTEND:20210213T040000Z
SUMMARY:Voice Training @ TDB Music 
END:VEVENT
END:VCALENDAR
