BEGIN:VCALENDAR
VERSION:2.0
PRODID:-//Squarespace Inc/Squarespace 6//v6//EN
BEGIN:VEVENT
UID:6021c9717beeb543784eac24@squarespace.com
DTSTAMP:20210208T233023Z
DTSTART:20210312T230000Z
DTEND:20210313T040000Z
SUMMARY:Voice Training @ TDB Music  
END:VEVENT
END:VCALENDAR
