BEGIN:VCALENDAR
VERSION:2.0
PRODID:-//Squarespace Inc/Squarespace 6//v6//EN
BEGIN:VEVENT
UID:5f39dde23384b2337c5b6b48@squarespace.com
DTSTAMP:20210208T233421Z
DTSTART:20200906T043000Z
DTEND:20200906T073000Z
SUMMARY:Serenata Trio @ Little Blowhole ArtBar Kiama
GEO:-34.687297;150.855893
LOCATION:Little BlowHole Art Bar Kiama\, Shop 6/4 Tingira Cres\, Kiama\, Au
 stralia
END:VEVENT
END:VCALENDAR
