BEGIN:VCALENDAR
VERSION:2.0
PRODID:-//Squarespace Inc/Squarespace 6//v6//EN
BEGIN:VEVENT
UID:5f67daf7c9621301a2157ce5@squarespace.com
DTSTAMP:20210208T232148Z
DTSTART:20201127T220000Z
DTEND:20201128T050000Z
SUMMARY:Voice Training @ TDB Music 
GEO:-33.883024;151.117223
LOCATION:Voice Training @ TDB Music\, 1/105 Edwin St Nth\, Croydon\, Austra
 lia
END:VEVENT
END:VCALENDAR
