BEGIN:VCALENDAR
VERSION:2.0
PRODID:-//Squarespace Inc/Squarespace 6//v6//EN
BEGIN:VEVENT
UID:5f67d5f9bd90701b226397ee@squarespace.com
DTSTAMP:20200920T223859Z
DTSTART:20201016T230000Z
DTEND:20201017T040000Z
SUMMARY:Voice Training @ TDB Music Term 4 2020
GEO:-33.883024;151.117223
LOCATION:Voice Training @ TDB Music\, 1/105 Edwin St Nth\, Croydon NSW 2517
 \, Australia
END:VEVENT
END:VCALENDAR
