BEGIN:VCALENDAR
VERSION:2.0
PRODID:-//Squarespace Inc/Squarespace 6//v6//EN
BEGIN:VEVENT
UID:5f67dbc4057cc942000c935f@squarespace.com
DTSTAMP:20200920T224850Z
DTSTART:20201211T220000Z
DTEND:20201212T050000Z
SUMMARY:Voice Training @ TDB Music 
GEO:-33.883024;151.117223
LOCATION:Voice Training @ TDB Music\, 1/105 Edwin St Nth\, Croydon\, Austra
 lia
END:VEVENT
END:VCALENDAR
