BEGIN:VCALENDAR
VERSION:2.0
PRODID:-//Squarespace Inc/Squarespace 6//v6//EN
BEGIN:VEVENT
UID:5f67db56ef095d17b7843481@squarespace.com
DTSTAMP:20200920T224555Z
DTSTART:20201113T220000Z
DTEND:20201114T050000Z
SUMMARY:Voice Training @ TDB Music 
END:VEVENT
END:VCALENDAR
