BEGIN:VCALENDAR
VERSION:2.0
PRODID:-//Squarespace Inc/Squarespace 6//v6//EN
BEGIN:VEVENT
UID:5e5602feeb377132c6cbc8f1@squarespace.com
DTSTAMP:20200615T032703Z
DTSTART:20200807T090000Z
DTEND:20200807T120000Z
SUMMARY:CANCELLED DUE TO COVID19   - TDBQ: Trish Delaney-Brown Quintet @ Ja
 zz Haus
GEO:-35.364979;149.096155
LOCATION:Austrian Club Mawson\, 5 Mountevans Street\, Mawson\, ACT\, 2607\, 
 Australia
END:VEVENT
END:VCALENDAR
