BEGIN:VCALENDAR
VERSION:2.0
PRODID:-//Squarespace Inc/Squarespace 6//v6//EN
BEGIN:VEVENT
UID:5e5600c63a3ac32ca37fd3e0@squarespace.com
DTSTAMP:20200615T032533Z
DTSTART:20200628T040000Z
DTEND:20200628T070000Z
SUMMARY:CANCELLED DUE TO COVID19  - The Sardine Can with Sandie White
END:VEVENT
END:VCALENDAR
