BEGIN:VCALENDAR
VERSION:2.0
PRODID:-//Squarespace Inc/Squarespace 6//v6//EN
BEGIN:VEVENT
UID:5ee6ea92dd4fcc494824c84b@squarespace.com
DTSTAMP:20210208T233439Z
DTSTART:20200705T043000Z
DTEND:20200705T073000Z
SUMMARY:Serenata Trio @ Little Blowhole Kiama
GEO:-34.687297;150.855893
LOCATION:Little Blowhole Art Bar\, Shop 6/4 Tingira Cres\, Kiama\, Australi
 a
END:VEVENT
END:VCALENDAR
