BEGIN:VCALENDAR
VERSION:2.0
PRODID:-//Squarespace Inc/Squarespace 6//v6//EN
BEGIN:VEVENT
UID:6021ca8fe4062e16d10d3a68@squarespace.com
DTSTAMP:20210208T233839Z
DTSTART:20210321T030000Z
DTEND:20210321T063000Z
SUMMARY:Serenata Trio @ Art Bar Kiama
GEO:-34.687297;150.855893
LOCATION:Little Blowhole Art Bar\, Shop 6/4 Tingira Cres\, Kiama\, Australi
 a
END:VEVENT
END:VCALENDAR
