BEGIN:VCALENDAR
VERSION:2.0
PRODID:-//Squarespace Inc/Squarespace 6//v6//EN
BEGIN:VEVENT
UID:5e56072be76e6430d0d7e403@squarespace.com
DTSTAMP:20200226T055104Z
DTSTART:20200403T230000Z
DTEND:20200404T050000Z
SUMMARY:Voice Training @ TDB Music
END:VEVENT
END:VCALENDAR
