BEGIN:VCALENDAR
VERSION:2.0
PRODID:-//Squarespace Inc/Squarespace 6//v6//EN
BEGIN:VEVENT
UID:5e5606f16212a045e9705f7f@squarespace.com
DTSTAMP:20200226T055014Z
DTSTART:20200402T230000Z
DTEND:20200403T060000Z
SUMMARY:Voice Training @ TDB Music
END:VEVENT
END:VCALENDAR
