BEGIN:VCALENDAR
VERSION:2.0
PRODID:-//Squarespace Inc/Squarespace 6//v6//EN
BEGIN:VEVENT
UID:5e324988cd95a406db097901@squarespace.com
DTSTAMP:20200218T001618Z
DTSTART:20200308T033000Z
DTEND:20200308T063000Z
SUMMARY:Trish Delaney-Brown and Friends
GEO:-34.687297;150.855893
LOCATION:Art Bar Kiama\, 4 Tingarra Cres\, Kiama NSW\, Australia
END:VEVENT
END:VCALENDAR
