BEGIN:VCALENDAR
VERSION:2.0
PRODID:-//Squarespace Inc/Squarespace 6//v6//EN
BEGIN:VEVENT
UID:5e5605f98291701b1d5bf4c5@squarespace.com
DTSTAMP:20200226T054554Z
DTSTART:20200306T230000Z
DTEND:20200307T053000Z
SUMMARY:Voice Training @ TDB Music
END:VEVENT
END:VCALENDAR
