BEGIN:VCALENDAR
VERSION:2.0
PRODID:-//Squarespace Inc/Squarespace 6//v6//EN
BEGIN:VEVENT
UID:5e3bfd28b3f135363401d0a1@squarespace.com
DTSTAMP:20200218T001524Z
DTSTART:20200306T070000Z
DTEND:20200306T083000Z
SUMMARY:Serenata Trio @ NOVA \, Kiama Jazz &amp\; Blues Festival
END:VEVENT
END:VCALENDAR
