BEGIN:VCALENDAR
VERSION:2.0
PRODID:-//Squarespace Inc/Squarespace 6//v6//EN
BEGIN:VEVENT
UID:5e5606a73f9a6c6483196f4c@squarespace.com
DTSTAMP:20200226T054845Z
DTSTART:20200326T230000Z
DTEND:20200327T060000Z
SUMMARY:Voice Training @ TDB Music
END:VEVENT
END:VCALENDAR
