BEGIN:VCALENDAR
VERSION:2.0
PRODID:-//Squarespace Inc/Squarespace 6//v6//EN
BEGIN:VEVENT
UID:5e56063e8ac092631b00f364@squarespace.com
DTSTAMP:20200226T054726Z
DTSTART:20200319T230000Z
DTEND:20200319T230000Z
SUMMARY:Voice Training @ TDB Music
END:VEVENT
END:VCALENDAR
