BEGIN:VCALENDAR
VERSION:2.0
PRODID:-//Squarespace Inc/Squarespace 6//v6//EN
BEGIN:VEVENT
UID:5e3bfb6aaa491460d7cbb383@squarespace.com
DTSTAMP:20200206T114540Z
DTSTART:20200207T220000Z
DTEND:20200208T053000Z
SUMMARY:Voice Training @ TDB Music 
END:VEVENT
END:VCALENDAR
