BEGIN:VCALENDAR
VERSION:2.0
PRODID:-//Squarespace Inc/Squarespace 6//v6//EN
BEGIN:VEVENT
UID:5e3bfcf67af05d625849d67a@squarespace.com
DTSTAMP:20200206T114822Z
DTSTART:20200227T230000Z
DTEND:20200228T060000Z
SUMMARY:Voice Training @ TDB Music 
END:VEVENT
END:VCALENDAR
