BEGIN:VCALENDAR
VERSION:2.0
PRODID:-//Squarespace Inc/Squarespace 6//v6//EN
BEGIN:VEVENT
UID:5e3bfc9906cec62250a2e59d@squarespace.com
DTSTAMP:20200206T114701Z
DTSTART:20200221T220000Z
DTEND:20200222T053000Z
SUMMARY:Voice Training @ TDB Music 
END:VEVENT
END:VCALENDAR
