BEGIN:VCALENDAR
VERSION:2.0
PRODID:-//Squarespace Inc/Squarespace 6//v6//EN
BEGIN:VEVENT
UID:5e3bfc77a9f1571c8ee9d6b6@squarespace.com
DTSTAMP:20200206T114624Z
DTSTART:20200220T230000Z
DTEND:20200221T060000Z
SUMMARY:Voice Training @ TDB Music 
END:VEVENT
END:VCALENDAR
