BEGIN:VCALENDAR
VERSION:2.0
PRODID:-//Squarespace Inc/Squarespace 6//v6//EN
BEGIN:VEVENT
UID:5e3bfb9b7af05d625849ac89@squarespace.com
DTSTAMP:20200206T114528Z
DTSTART:20200213T230000Z
DTEND:20200214T060000Z
SUMMARY:Voice Training @ TDB Music 
END:VEVENT
END:VCALENDAR
