BEGIN:VCALENDAR
VERSION:2.0
PRODID:-//Squarespace Inc/Squarespace 6//v6//EN
BEGIN:VEVENT
UID:5f67d236d78cc314d21e448d@squarespace.com
DTSTAMP:20200920T222114Z
DTSTART:20201220T033000Z
DTEND:20201220T063000Z
SUMMARY:Serenata Trio @ Little Blowhole ArtBar Kiama
GEO:-34.687297;150.855893
LOCATION:Little Blowhole ArtBar Kiama\, Shop 6/4 Tingara Cres\, Kiama\, Aus
 tralia
END:VEVENT
END:VCALENDAR
