BEGIN:VCALENDAR
VERSION:2.0
PRODID:-//Squarespace Inc/Squarespace 6//v6//EN
BEGIN:VEVENT
UID:5fc61f67173fb5383b74a462@squarespace.com
DTSTAMP:20201201T105122Z
DTSTART:20201213T040000Z
DTEND:20201213T053000Z
SUMMARY:Danny Carmichael Trio feat. Trish Delaney-Brown
GEO:-33.894834;151.274112
LOCATION:Bondi Icebergs\, Notts Avenue\, Bondi Beach\, NSW\, 2026\, Austral
 ia
END:VEVENT
END:VCALENDAR
