BEGIN:VCALENDAR
VERSION:2.0
PRODID:-//Squarespace Inc/Squarespace 6//v6//EN
BEGIN:VEVENT
UID:5f67da39c9621301a2156b8e@squarespace.com
DTSTAMP:20200920T224246Z
DTSTART:20201030T220000Z
DTEND:20201031T050000Z
SUMMARY:Voice Training @ TDB Music 
GEO:-33.883024;151.117223
LOCATION:Voice Training @ TDBMusic\, 1/105 Edwin St Nth\, Croydon\, Austral
 ia
END:VEVENT
END:VCALENDAR
