BEGIN:VCALENDAR
VERSION:2.0
PRODID:-//Squarespace Inc/Squarespace 6//v6//EN
BEGIN:VEVENT
UID:5e323cfe8a92c82fc8031612@squarespace.com
DTSTAMP:20200130T021940Z
DTSTART:20200131T150000Z
DTEND:20200131T220000Z
SUMMARY:Voice Training @ TDB Music 2020 commences
END:VEVENT
END:VCALENDAR
