BEGIN:VCALENDAR
VERSION:2.0
PRODID:-//Squarespace Inc/Squarespace 6//v6//EN
BEGIN:VEVENT
UID:5d8733bb1f1b7e66d923d084@squarespace.com
DTSTAMP:20190922T085332Z
DTSTART:20191024T003000Z
DTEND:20191024T033000Z
SUMMARY:TDBQ @ Lazybones Lounge
GEO:-33.909505;151.154772
LOCATION:Lazybones Lounge\, 295 Marrickville Road\, Marrickville\, NSW\, 22
 04\, Australia
END:VEVENT
END:VCALENDAR
