BEGIN:VCALENDAR
VERSION:2.0
PRODID:-//Squarespace Inc/Squarespace 6//v6//EN
BEGIN:VEVENT
UID:5d64a661ce9af40001f13675@squarespace.com
DTSTAMP:20190910T031737Z
DTSTART:20190928T003000Z
DTEND:20190928T033000Z
SUMMARY:‘Duets’ – a celebration of the music of Betty Carter and Carmen McR
 ae. 
GEO:-33.88057;151.20047
LOCATION:Foundry616\, 616-620 Harris Street\, Ultimo\, NSW\, 2007\, Austral
 ia
END:VEVENT
END:VCALENDAR
