BEGIN:VCALENDAR
VERSION:2.0
PRODID:-//Squarespace Inc/Squarespace 6//v6//EN
BEGIN:VEVENT
UID:5c7f4f29fa0d6036d7130de5@squarespace.com
DTSTAMP:20190306T045217Z
DTSTART:20190309T000000Z
DTEND:20190309T020000Z
SUMMARY:My Favourite Things - Jazz From the Silver Screen with The Serenata 
 Trio
GEO:-34.687297;150.855893
LOCATION:Little Blowhole Art Bar\, 4 Tingira Cres\, Kiama NSW 2533\, Austra
 lia
END:VEVENT
END:VCALENDAR
