BEGIN:VCALENDAR
VERSION:2.0
PRODID:-//Squarespace Inc/Squarespace 6//v6//EN
BEGIN:VEVENT
UID:5c4519c27924e87e3c6d48d9@squarespace.com
DTSTAMP:20190121T013154Z
DTSTART:20190216T003000Z
DTEND:20190216T033000Z
SUMMARY:TDBQ: Trish Delaney-Brown Quintet @ Jazz Haus
GEO:-35.364979;149.096155
LOCATION:Austrian Club Mawson\, 5 Mountevans Street\, Mawson\, ACT\, 2607\, 
 Australia
END:VEVENT
END:VCALENDAR
