BEGIN:VCALENDAR
VERSION:2.0
PRODID:-//Squarespace Inc/Squarespace 6//v6//EN
BEGIN:VEVENT
UID:5de5c41029802b34bccb9cee@squarespace.com
DTSTAMP:20191203T022212Z
DTSTART:20191208T003000Z
DTEND:20191208T030000Z
SUMMARY:TDBQ LIVE @ The Boiler House
GEO:-33.436059;149.924729
LOCATION:The Boiler House\, Hydro Majestic\, Great Western Highway\, Medlow 
 Bath\, NSW\, 2750\, Australia
END:VEVENT
END:VCALENDAR
