BEGIN:VCALENDAR
VERSION:2.0
PRODID:-//Squarespace Inc/Squarespace 6//v6//EN
BEGIN:VEVENT
UID:5d8b47ad9be36e642e2ac9af@squarespace.com
DTSTAMP:20190925T110659Z
DTSTART:20191016T000000Z
DTEND:20191016T020000Z
SUMMARY:TDBQ @ NIMA
GEO:-32.929927;151.782351
LOCATION:NIMA @ The Grand Hotel Underground\, Cnr Bolton and Church Sts\, N
 ewcastle NSW\, Australia
END:VEVENT
END:VCALENDAR
