BEGIN:VCALENDAR
VERSION:2.0
PRODID:-//Squarespace Inc/Squarespace 6//v6//EN
BEGIN:VEVENT
UID:5b3c4c3703ce6479dfc7cc89@squarespace.com
DTSTAMP:20180704T043428Z
DTSTART:20180721T220000Z
DTEND:20180722T030000Z
SUMMARY:Xmas In July - a feast of food and music
GEO:-34.822145;150.558694
LOCATION:Cambewarra Hall\, 2 Goorama Drive\, Cambewarra Village\, NSW\, 254
 0\, Australia
END:VEVENT
END:VCALENDAR
