BEGIN:VCALENDAR
VERSION:2.0
PRODID:-//Squarespace Inc/Squarespace 6//v6//EN
BEGIN:VEVENT
UID:5b3c49c8f950b77f516ab15c@squarespace.com
DTSTAMP:20180704T042202Z
DTSTART:20180713T003000Z
DTEND:20180713T030000Z
SUMMARY:TDBQ @ Foundry616
GEO:-33.88057;151.20047
LOCATION:Foundry616\, 616 Harris Street\, Ultimo\, NSW\, 2007\, Australia
END:VEVENT
END:VCALENDAR
