BEGIN:VCALENDAR
VERSION:2.0
PRODID:-//Squarespace Inc/Squarespace 6//v6//EN
BEGIN:VEVENT
UID:5b9de2f3758d46cdbe72060f@squarespace.com
DTSTAMP:20180916T050636Z
DTSTART:20181014T000000Z
DTEND:20181014T020000Z
SUMMARY:TDBQ: Trish Delaney-Brown Quintet | Live @ The Boilerhouse
GEO:-33.679602;150.283418
LOCATION:Hydro Majestic Hotel\, Great Western Highway\, Medlow Bath\, NSW\, 
 2780\, Australia
END:VEVENT
END:VCALENDAR
