BEGIN:VCALENDAR
VERSION:2.0
PRODID:-//Squarespace Inc/Squarespace 6//v6//EN
BEGIN:VEVENT
UID:5a549700419202695f48f4ad@squarespace.com
DTSTAMP:20180109T102714Z
DTSTART:20180207T010000Z
DTEND:20180207T030000Z
SUMMARY:TDBQ @ NIMA
GEO:-32.929927;151.782351
LOCATION:NIMA at The Grand Hotel Underground\, Cnr Bolton and Church Street
 s\, Newcastle\, NSW\, Australia
END:VEVENT
END:VCALENDAR
