BEGIN:VCALENDAR
VERSION:2.0
PRODID:-//Squarespace Inc/Squarespace 6//v6//EN
BEGIN:VEVENT
UID:59b243d20abd0445de58f8ba@squarespace.com
DTSTAMP:20170908T082343Z
DTSTART:20170907T003000Z
DTEND:20170907T033000Z
SUMMARY:Sonic Mayhem Orchestra
GEO:-33.910791;151.156382
LOCATION:Lazybones Lounge\, 294 Marrickville Road\, Marrickville\, NSW\, 22
 04\, Australia
END:VEVENT
END:VCALENDAR
