BEGIN:VCALENDAR
VERSION:2.0
PRODID:-//Squarespace Inc/Squarespace 6//v6//EN
BEGIN:VEVENT
UID:59b2412ef7e0abec5d0b48e4@squarespace.com
DTSTAMP:20170908T071557Z
DTSTART:20170902T003000Z
DTEND:20170903T033000Z
SUMMARY:Jeremy Sawkins Quartet feat. Trish Delaney-Brown
GEO:-34.3524;150.919072
LOCATION:City Beach Function Centre\, Beach Drive\, Woonona\, NSW\, 2517\, 
 Australia
END:VEVENT
END:VCALENDAR
