BEGIN:VCALENDAR
VERSION:2.0
PRODID:-//Squarespace Inc/Squarespace 6//v6//EN
BEGIN:VEVENT
UID:59f967ad10952678f8a66341@squarespace.com
DTSTAMP:20171101T062518Z
DTSTART:20171123T013000Z
DTEND:20171123T040000Z
SUMMARY:TDBQ 'The Game'  EP Release
GEO:-33.880598;151.200461
LOCATION:Foundry616\, 616 Harris Street\, Ultimo\, NSW\, 2007\, Australia
END:VEVENT
END:VCALENDAR
