BEGIN:VCALENDAR
VERSION:2.0
PRODID:-//Squarespace Inc/Squarespace 6//v6//EN
BEGIN:VEVENT
UID:59b5e8862278e7557ece64af@squarespace.com
DTSTAMP:20171002T120549Z
DTSTART:20171004T003000Z
DTEND:20171004T033000Z
SUMMARY:TDBQ @ Lazybones Lounge
GEO:-33.910791;151.156382
LOCATION:Lazybones Lounge\, 294 Marrickville Road\, Marrickville\, NSW\, 22
 04\, Australia
END:VEVENT
END:VCALENDAR
