BEGIN:VCALENDAR
VERSION:2.0
PRODID:-//Squarespace Inc/Squarespace 6//v6//EN
BEGIN:VEVENT
UID:5e32207bdccb3e3e70a1921c@squarespace.com
DTSTAMP:20200130T001839Z
DTSTART:20200131T150000Z
DTEND:20200131T220000Z
SUMMARY:Voice Training @ TDB Music 
END:VEVENT
END:VCALENDAR
